BEGIN:VCALENDAR
VERSION:2.0
PRODID:-//Family and Youth Justice Programs - ECPv6.15.18//NONSGML v1.0//EN
CALSCALE:GREGORIAN
METHOD:PUBLISH
X-WR-CALNAME:Family and Youth Justice Programs
X-ORIGINAL-URL:https://www.wacita.org
X-WR-CALDESC:Events for Family and Youth Justice Programs
REFRESH-INTERVAL;VALUE=DURATION:PT1H
X-Robots-Tag:noindex
X-PUBLISHED-TTL:PT1H
BEGIN:VTIMEZONE
TZID:America/Los_Angeles
BEGIN:DAYLIGHT
TZOFFSETFROM:-0800
TZOFFSETTO:-0700
TZNAME:PDT
DTSTART:20220313T100000
END:DAYLIGHT
BEGIN:STANDARD
TZOFFSETFROM:-0700
TZOFFSETTO:-0800
TZNAME:PST
DTSTART:20221106T090000
END:STANDARD
BEGIN:DAYLIGHT
TZOFFSETFROM:-0800
TZOFFSETTO:-0700
TZNAME:PDT
DTSTART:20230312T100000
END:DAYLIGHT
BEGIN:STANDARD
TZOFFSETFROM:-0700
TZOFFSETTO:-0800
TZNAME:PST
DTSTART:20231105T090000
END:STANDARD
BEGIN:DAYLIGHT
TZOFFSETFROM:-0800
TZOFFSETTO:-0700
TZNAME:PDT
DTSTART:20240310T100000
END:DAYLIGHT
BEGIN:STANDARD
TZOFFSETFROM:-0700
TZOFFSETTO:-0800
TZNAME:PST
DTSTART:20241103T090000
END:STANDARD
BEGIN:DAYLIGHT
TZOFFSETFROM:-0800
TZOFFSETTO:-0700
TZNAME:PDT
DTSTART:20250309T100000
END:DAYLIGHT
BEGIN:STANDARD
TZOFFSETFROM:-0700
TZOFFSETTO:-0800
TZNAME:PST
DTSTART:20251102T090000
END:STANDARD
END:VTIMEZONE
BEGIN:VTIMEZONE
TZID:America/New_York
BEGIN:DAYLIGHT
TZOFFSETFROM:-0500
TZOFFSETTO:-0400
TZNAME:EDT
DTSTART:20220313T070000
END:DAYLIGHT
BEGIN:STANDARD
TZOFFSETFROM:-0400
TZOFFSETTO:-0500
TZNAME:EST
DTSTART:20221106T060000
END:STANDARD
BEGIN:DAYLIGHT
TZOFFSETFROM:-0500
TZOFFSETTO:-0400
TZNAME:EDT
DTSTART:20230312T070000
END:DAYLIGHT
BEGIN:STANDARD
TZOFFSETFROM:-0400
TZOFFSETTO:-0500
TZNAME:EST
DTSTART:20231105T060000
END:STANDARD
BEGIN:DAYLIGHT
TZOFFSETFROM:-0500
TZOFFSETTO:-0400
TZNAME:EDT
DTSTART:20240310T070000
END:DAYLIGHT
BEGIN:STANDARD
TZOFFSETFROM:-0400
TZOFFSETTO:-0500
TZNAME:EST
DTSTART:20241103T060000
END:STANDARD
END:VTIMEZONE
BEGIN:VEVENT
DTSTART;TZID=America/Los_Angeles:20240918T121500
DTEND;TZID=America/Los_Angeles:20240918T131500
DTSTAMP:20260423T180226
CREATED:20231031T181824Z
LAST-MODIFIED:20240422T233441Z
UID:12486-1726661700-1726665300@www.wacita.org
SUMMARY:Judicial Community of Practice
DESCRIPTION:Topic: Dependency Timelines: Improving Time to Fact-Finding \nGuest Expert: Jennifer Nguyen\, AOC \nOpen to judicial officers ONLY. Learn more here: Judicial Community of Practice 
URL:https://www.wacita.org/event/judicial-community-of-practice-9/
LOCATION:Virtual
END:VEVENT
BEGIN:VEVENT
DTSTART;TZID=America/Los_Angeles:20240913T120000
DTEND;TZID=America/Los_Angeles:20240913T130000
DTSTAMP:20260423T180226
CREATED:20240718T162507Z
LAST-MODIFIED:20240718T162550Z
UID:13951-1726228800-1726232400@www.wacita.org
SUMMARY:Live Webinar: Understanding State Public Health Guidance on High-Potency Synthetic Opioids in Child Dependency Cases
DESCRIPTION:2024 Webinar DOH Guidance on HPSOsJoin us for an informative and crucial webinar featuring experts from the Department of Health (DOH) who will present on the recently released Public Health Guidance on High Potency Synthetic Opioids. Creation of this guidance was mandated by the Washington State Legislature in the 2024 passage of SB 6109\, which requires courts to give “great weight” to both DOH’s public health guidance and the lethality of high-potency synthetic opioids. Participants will learn about the creation of this guidance and gain insight into applying it effectively in child welfare cases to promote better outcomes for children and families impacted by opioid abuse. \nAll court and system partners involved in child dependency cases are welcome to attend\, including those with lived experience as youth\, parents\, caregivers\, and foster parents. \nThis webinar will be recorded and made available for later viewing on Family & Youth Justice Programs’ website.
URL:https://www.wacita.org/event/live-webinar-understanding-state-public-health-guidance-on-high-potency-synthetic-opioids-in-child-dependency-cases/
LOCATION:Virtual
CATEGORIES:Webinar
END:VEVENT
BEGIN:VEVENT
DTSTART;TZID=America/Los_Angeles:20240821T121500
DTEND;TZID=America/Los_Angeles:20240821T131500
DTSTAMP:20260423T180226
CREATED:20231031T181719Z
LAST-MODIFIED:20240422T233356Z
UID:12484-1724242500-1724246100@www.wacita.org
SUMMARY:Judicial Community of Practice
DESCRIPTION:Topic: Transitions for Infants: Reducing Harm of Removal \nGuest Expert: Julie Fisher\, CHERISH Programs \nOpen to judicial officers ONLY. Learn more here: Judicial Community of Practice 
URL:https://www.wacita.org/event/judicial-community-of-practice-8/
LOCATION:Virtual
END:VEVENT
BEGIN:VEVENT
DTSTART;TZID=America/Los_Angeles:20240628T090000
DTEND;TZID=America/Los_Angeles:20240628T120000
DTSTAMP:20260423T180226
CREATED:20240422T232533Z
LAST-MODIFIED:20240422T233928Z
UID:13545-1719565200-1719576000@www.wacita.org
SUMMARY:Hope Awareness: Western WA in Tacoma
DESCRIPTION:Building equitable systems and supports requires all the components of Hope Science – clear goals\, pathways and a belief change can happen. The purpose of this event is to bring awareness to the power of hope. Community organizations\, leaders\, and champions for youth are encouraged to attend.\n\nThere is no cost to attend this event\, but we do ask you RSVP to ensure we have adequate space and materials for participants.\n\nHope Week 2024 Flyer
URL:https://www.wacita.org/event/hope-awareness-western-wa-in-tacoma/
LOCATION:Location\, 1301 A St\, Tacoma\, WA\, 98402\, United States
END:VEVENT
BEGIN:VEVENT
DTSTART;TZID=America/Los_Angeles:20240627T130000
DTEND;TZID=America/Los_Angeles:20240627T160000
DTSTAMP:20260423T180226
CREATED:20240422T232207Z
LAST-MODIFIED:20240422T233926Z
UID:13543-1719493200-1719504000@www.wacita.org
SUMMARY:Hope Awareness for Funders & Legislative Leaders in Bellevue
DESCRIPTION:Dr. Chan Hellman will meet with philanthropists and elected leaders to build an awareness of Hope Science and how Hope can make a powerful impact in systems change. \nHope Week 2024 Flyer
URL:https://www.wacita.org/event/hope-awareness-for-funders-legislative-leaders-in-bellevue/
LOCATION:WA
END:VEVENT
BEGIN:VEVENT
DTSTART;TZID=America/Los_Angeles:20240626T130000
DTEND;TZID=America/Los_Angeles:20240626T160000
DTSTAMP:20260423T180226
CREATED:20240422T232010Z
LAST-MODIFIED:20240422T233923Z
UID:13540-1719406800-1719417600@www.wacita.org
SUMMARY:Hope & Healing in the Child Welfare Court Culture in Olympia
DESCRIPTION:The purpose of this event is for child welfare leaders to come together in conversation about hope and healing within the child welfare culture.\n\nThere is no cost to attend this event\, but we do ask you RSVP to ensure we have adequate space and materials for participants.\n\nHope Week 2024 Flyer
URL:https://www.wacita.org/event/hope-healing-in-the-child-welfare-court-culture-in-olympia/
LOCATION:ESD 113 Educational Media & Resource Center\,\,  6005 Tyee Drive Southwest\, Tumwater\, WA\, 98512\, United States
END:VEVENT
BEGIN:VEVENT
DTSTART;TZID=America/Los_Angeles:20240626T083000
DTEND;TZID=America/Los_Angeles:20240626T110000
DTSTAMP:20260423T180226
CREATED:20240422T231713Z
LAST-MODIFIED:20240422T233921Z
UID:13537-1719390600-1719399600@www.wacita.org
SUMMARY:Hope Leadership in Olympia
DESCRIPTION:Dr. Hellman will meet with executive leaders of WA State agencies and organizations to learn how to build the science of hope into policy and practice to reduce burnout and improve outcomes for staff\, clients\, students and well-beings of communities as a collective.\n\nDr. Chan Hellman\, Director of the Hope Research Center at the University of Oklahoma\, will share examples of public agency and court leaders who nurture hope to make statistically significant organizational change – including reducing staff turnover and burnout\, and increasing the trust and engagement of people they serve.\n\nPlease join Dr. Hellman and other Washington State leaders for this in-person learning experience. You’ll leave inspired and equipped with actionable ideas to implement hope in your organization.\n\nSeats are limited for this exclusive event. Please honor your RSVP by following through on your commitment to attend (outside of illness or emergency). Thank you!!!\n\nHope Week 2024 Flyer
URL:https://www.wacita.org/event/hope-leadership-in-olympia/
LOCATION:ESD 113 Educational Media & Resource Center\,\,  6005 Tyee Drive Southwest\, Tumwater\, WA\, 98512\, United States
END:VEVENT
BEGIN:VEVENT
DTSTART;TZID=America/Los_Angeles:20240625T090000
DTEND;TZID=America/Los_Angeles:20240625T120000
DTSTAMP:20260423T180226
CREATED:20240422T231154Z
LAST-MODIFIED:20240422T233918Z
UID:13533-1719306000-1719316800@www.wacita.org
SUMMARY:Hope Awareness: Eastern WA in Spokane
DESCRIPTION:Building equitable systems and supports requires all the components of Hope Science – clear goals\, pathways and a belief change can happen. The purpose of this event is to bring awareness to the power of hope. Community organizations\, leaders\, and champions for youth are encouraged to attend.\n\nThere is no cost to attend this event\, but we do ask you RSVP to ensure we have adequate space and materials for participants.\n\nHope Week 2024 Flyer
URL:https://www.wacita.org/event/hope-awareness-eastern-wa-in-spokane/
LOCATION:Empire Health Foundation\, 1020 W Riverside Ave\, Spokane\, WA\, 99201 \, United States
END:VEVENT
BEGIN:VEVENT
DTSTART;TZID=America/Los_Angeles:20240624T081500
DTEND;TZID=America/Los_Angeles:20240624T093000
DTSTAMP:20260423T180226
CREATED:20240422T230846Z
LAST-MODIFIED:20240422T233915Z
UID:13529-1719216900-1719221400@www.wacita.org
SUMMARY:Washington State Principal’s Conference: Unlocking the Power of Hope
DESCRIPTION:While not hosted by Hope Rising WA\, the fabulous Dr. Chan Hellman will be a keynote speaker at the Washington State Principal’s Conference! \nHope Week 2024 Flyer
URL:https://www.wacita.org/event/washington-state-principals-conference-unlocking-the-power-of-hope/
LOCATION:Spokane Convention Center\, WA\, United States
END:VEVENT
BEGIN:VEVENT
DTSTART;TZID=America/Los_Angeles:20240515T121500
DTEND;TZID=America/Los_Angeles:20240515T131500
DTSTAMP:20260423T180226
CREATED:20231031T181426Z
LAST-MODIFIED:20240422T232914Z
UID:12480-1715775300-1715778900@www.wacita.org
SUMMARY:Judicial Community of Practice
DESCRIPTION:Topic: Protein for All \nGuest Experts: Dr. Kristen Allott \nOpen to judicial officers ONLY. Learn more here: Judicial Community of Practice 
URL:https://www.wacita.org/event/judicial-community-of-practice-6/
LOCATION:Virtual
END:VEVENT
BEGIN:VEVENT
DTSTART;VALUE=DATE:20240513
DTEND;VALUE=DATE:20240516
DTSTAMP:20260423T180226
CREATED:20231212T175501Z
LAST-MODIFIED:20240424T212551Z
UID:12839-1715558400-1715817599@www.wacita.org
SUMMARY:2024 Dependency Judicial Training Academy
DESCRIPTION:Access HUB: https://www.wacita.org/2024-dependency-judicial-training-academy/ \nEvery year\, Family & Youth Justice Programs (FYJP) holds a multi-day judicial training academy focused child dependency cases. In collaboration with judicial and system partners\, we strive to create and deliver in-demand content that supports judicial officer practice and system leadership. Topics of the 2024 Judicial Academy will include the current state of child welfare in WA\, case law and legislative updates\, safety decisions and family engagement in cases involving fentanyl and responding to parent and child fatalities. \nRegistration is open to the following groups ONLY: \n\nSuperior Court Judicial Officers\nTribal Court Judicial Officers\nCourt Administrators\nFJCIP Coordinators\nFamily Treatment Court Coordinators\nEarly Childhood Court Coordinators\nICWA Docket Coordinators/Staff\nJudicial Officers\, Commissioners\, Staff Attorney\, and Externs from the Washington Court of Appeals and Washington Supreme Court
URL:https://www.wacita.org/event/2024-dependency-judicial-training-academy/
LOCATION:Virtual
END:VEVENT
BEGIN:VEVENT
DTSTART;TZID=America/Los_Angeles:20240419T080000
DTEND;TZID=America/Los_Angeles:20240419T120000
DTSTAMP:20260423T180226
CREATED:20240122T190030Z
LAST-MODIFIED:20240122T190137Z
UID:13021-1713513600-1713528000@www.wacita.org
SUMMARY:Snohomish County Safety Summit
DESCRIPTION:Click Here to View Flyer: Snohomish County Safety Summit
URL:https://www.wacita.org/event/snohomish-county-safety-summit/
LOCATION:Virtual
CATEGORIES:Family and Youth Justice Programs
END:VEVENT
BEGIN:VEVENT
DTSTART;TZID=America/Los_Angeles:20240320T121500
DTEND;TZID=America/Los_Angeles:20240320T131500
DTSTAMP:20260423T180226
CREATED:20231031T181212Z
LAST-MODIFIED:20231031T181212Z
UID:12474-1710936900-1710940500@www.wacita.org
SUMMARY:Judicial Community of Practice
DESCRIPTION:Topic: TBA \nGuest Experts: TBA \nOpen to judicial officers ONLY. Learn more here: Judicial Community of Practice 
URL:https://www.wacita.org/event/judicial-community-of-practice-4/
LOCATION:Virtual
END:VEVENT
BEGIN:VEVENT
DTSTART;TZID=America/Los_Angeles:20240221T121500
DTEND;TZID=America/Los_Angeles:20240221T131500
DTSTAMP:20260423T180226
CREATED:20231031T181210Z
LAST-MODIFIED:20231031T181210Z
UID:12473-1708517700-1708521300@www.wacita.org
SUMMARY:Judicial Community of Practice
DESCRIPTION:Topic: TBA \nGuest Experts: TBA \nOpen to judicial officers ONLY. Learn more here: Judicial Community of Practice 
URL:https://www.wacita.org/event/judicial-community-of-practice-3/
LOCATION:Virtual
END:VEVENT
BEGIN:VEVENT
DTSTART;TZID=America/Los_Angeles:20240208T100000
DTEND;TZID=America/Los_Angeles:20240208T150000
DTSTAMP:20260423T180226
CREATED:20240110T191821Z
LAST-MODIFIED:20240110T191821Z
UID:12954-1707386400-1707404400@www.wacita.org
SUMMARY:Child Well-Being and the New Science of Trauma: Regulating the Nervous System to Promote Healing
DESCRIPTION:Join us on February 8 to hear six exceptional speakers. Learn about the nervous system’s role in healing\, how different practitioners are using mind-body practices in their trauma-informed work with children and families\, and how to apply these learnings to your own life and work. Watch live or on-demand.
URL:https://www.wacita.org/event/child-well-being-and-the-new-science-of-trauma-regulating-the-nervous-system-to-promote-healing/
LOCATION:Virtual
END:VEVENT
BEGIN:VEVENT
DTSTART;TZID=America/Los_Angeles:20240117T121500
DTEND;TZID=America/Los_Angeles:20240117T131500
DTSTAMP:20260423T180226
CREATED:20231031T180611Z
LAST-MODIFIED:20231031T180637Z
UID:12469-1705493700-1705497300@www.wacita.org
SUMMARY:Judicial Community of Practice
DESCRIPTION:Topic: Making Quality Findings in Dependency and Termination Cases \nGuest Expert: Retired Judge Beth Andrus\, WA Court of Appeals Division 1 \nOpen to judicial officers ONLY. Learn more here: Judicial Community of Practice 
URL:https://www.wacita.org/event/january-judicial-community-of-practice/
LOCATION:Virtual
END:VEVENT
BEGIN:VEVENT
DTSTART;TZID=America/Los_Angeles:20231130T130000
DTEND;TZID=America/Los_Angeles:20231130T160000
DTSTAMP:20260423T180226
CREATED:20231120T211425Z
LAST-MODIFIED:20231120T211425Z
UID:12770-1701349200-1701360000@www.wacita.org
SUMMARY:A Multidisciplinary Response to Sex Trafficking in Indigenous Communities
DESCRIPTION:The Tribal State Court Consortium is pleased to invite our Washington State Tribal Court Judges\,\nState Court Judges\, Court System Employees\, Youth Justice Programs\, DV/SA Advocates\, Health\nAdvocates\, and Law Enforcement Officers to a special webinar presentation. \nThis presentation emerges from the 2021 Gender Justice Study Report reiterating disproportionate\nvictimization of Indigenous communities experiencing sex trafficking. With guidance from Kelly\nStoner & Bonnie Clairmont of Tribal Law and Policy Institute\, we will gain valuable education and\nbest practices for victims of sex trafficking\, including risk factors\, impacts of trauma\, culturally\nappropriate services\, and much more. \nThis webinar is interactive with our audience as we explore and actively discuss how to use a\nmultidisciplinary approach that may be more culturally aligned for Indigenous communities.
URL:https://www.wacita.org/event/a-multidisciplinary-response-to-sex-trafficking-in-indigenous-communities/
LOCATION:Virtual
END:VEVENT
BEGIN:VEVENT
DTSTART;TZID=America/Los_Angeles:20231116T110000
DTEND;TZID=America/Los_Angeles:20231116T120000
DTSTAMP:20260423T180226
CREATED:20231107T212619Z
LAST-MODIFIED:20231107T212619Z
UID:12591-1700132400-1700136000@www.wacita.org
SUMMARY:November National Family Treatment Court Idea Exchange
DESCRIPTION:Join us for the next Idea Exchange! We will continue the conversation following the October Practice Academy course on Building Secure Futures: Bonding and Attachment Support for Parents and Their Infants Affected by Substance Use. \nCome take part in lively conversations with peers from across the country. It’s a chance to share and discuss strategies\, innovations\, and challenges!\nAsking the questions… \n\nWhat are the differences between bonding and attachment?\nHow does parent-child separation\, substance use\, mental health\, trauma\, and shame disrupt bonding and attachment?\nWhat strategies are you using to support bonding and attachment for families affected by substance use?\n\nClick here to register!\nPlease join us Thursday\, November 16 @ 2pm ET/11am PT to share experiences\, celebrate successes\, and connect with peers!\nWe look forward to seeing you!
URL:https://www.wacita.org/event/november-national-family-treatment-court-idea-exchange/
LOCATION:virtual – register via link
END:VEVENT
BEGIN:VEVENT
DTSTART;TZID=America/Los_Angeles:20231115T121500
DTEND;TZID=America/Los_Angeles:20231115T131500
DTSTAMP:20260423T180226
CREATED:20230920T172013Z
LAST-MODIFIED:20230920T172013Z
UID:11963-1700050500-1700054100@www.wacita.org
SUMMARY:Judicial Community of Practice
DESCRIPTION:Topic: Improving Systems Through Engagement: A Conversation with Lived Experts \nGuest Experts: Parent Engagement Workgroup Members \nOpen to judicial officers ONLY. Learn more here: Judicial Community of Practice 
URL:https://www.wacita.org/event/judicial-community-of-practice-2/
LOCATION:Virtual
END:VEVENT
BEGIN:VEVENT
DTSTART;VALUE=DATE:20231101
DTEND;VALUE=DATE:20231103
DTSTAMP:20260423T180226
CREATED:20231019T191335Z
LAST-MODIFIED:20231019T191335Z
UID:12150-1698796800-1698969599@www.wacita.org
SUMMARY:4th Annual Indigenous Children\, Youth & Families (ICYF) Conference
DESCRIPTION:Register for the 4th annual Indigenous Children\, Youth & Families (ICYF) Conference on Nov. 1-2\, 2023\, from 9 a.m. to 4 p.m. This year’s theme is Honoring Our Past\, Celebrating Our Future: Healing through Native Traditions and Culture. \nThe two-day virtual conference supports workers and the community with information about practice and policy. Caregivers\, judicial personnel\, social workers\, and tribal workers are welcome to attend! \nTo register for the 2023 ICYF virtual conference\, visit www.dcyf.wa.gov/ICYF-2023.
URL:https://cpe.socialwork.uw.edu/alliance-courses/content/indigenous-children-youth-and-families-conference-2023#group-tabs-node-course-default1#new_tab
LOCATION:Virtual
END:VEVENT
BEGIN:VEVENT
DTSTART;VALUE=DATE:20231019
DTEND;VALUE=DATE:20231021
DTSTAMP:20260423T180226
CREATED:20230411T231531Z
LAST-MODIFIED:20230411T232044Z
UID:10808-1697673600-1697846399@www.wacita.org
SUMMARY:WSADCP Treatment Court Conference 2023
DESCRIPTION:This event hosted by the Washington State Association of Drug Court Professionals (WSADCP) is well attended by professionals from across the state. WSADCP works hard to bring speakers and sponsors based on feedback from court teams and provide a welcome opportunity to meet in person to learn together.
URL:https://www.wacita.org/event/wsadcp-treatment-court-conference-2023/
LOCATION:DoubleTree Suites by Hilton Hotel\, 16500 Southcenter Parkway\, Seattle\, WA\, 98188\, United States
CATEGORIES:Outside of AOC
END:VEVENT
BEGIN:VEVENT
DTSTART;TZID=America/Los_Angeles:20231018T121500
DTEND;TZID=America/Los_Angeles:20231018T131500
DTSTAMP:20260423T180226
CREATED:20230920T170927Z
LAST-MODIFIED:20230920T170927Z
UID:11959-1697631300-1697634900@www.wacita.org
SUMMARY:Judicial Community of Practice
DESCRIPTION:Session Topic: Extended Foster Care \nGuest Expert: Chris McLaughlin\, DCYF Extended Foster Care Program Manager \nOpen to judicial officers ONLY. Learn more here: Judicial Community of Practice
URL:https://www.wacita.org/event/judicial-community-of-practice/
LOCATION:Virtual
END:VEVENT
BEGIN:VEVENT
DTSTART;TZID=America/Los_Angeles:20231018T120000
DTEND;TZID=America/Los_Angeles:20231018T170000
DTSTAMP:20260423T180226
CREATED:20230412T200955Z
LAST-MODIFIED:20230414T185804Z
UID:10825-1697630400-1697648400@www.wacita.org
SUMMARY:All Sites Meeting Specialty Dependency Courts
DESCRIPTION:The Family and Youth Justice Programs team at the Washington Administrative Office of the Courts is working now to create a half-day in-person event to allow Family Treatment Court\, Early Childhood Court\, and ICWA Court Professionals a chance to meet and discuss the needs of your courts. This will be focused on discussion with other teams and will provide some support for travel. We are planning this for the 18th of October in the afternoon\, so that court partners might attend\, then stay for the WSADCP conference. More information to come!
URL:https://www.wacita.org/event/all-sites-meeting-specialty-dependency-courts/
LOCATION:WA
CATEGORIES:Family and Youth Justice Programs
END:VEVENT
BEGIN:VEVENT
DTSTART;VALUE=DATE:20231006
DTEND;VALUE=DATE:20231012
DTSTAMP:20260423T180226
CREATED:20230414T202647Z
LAST-MODIFIED:20230414T203009Z
UID:10907-1696550400-1697068799@www.wacita.org
SUMMARY:NAADAC 2023 Annual Conference
DESCRIPTION:The National Association for Addiction Professionals Annual Conference \n 
URL:https://www.wacita.org/event/naadac-2023-annual-conference/
LOCATION:Gaylord Rockies Resort & Convention Center\, Denver\, CO\, 80019\, United States
CATEGORIES:Outside of AOC
END:VEVENT
BEGIN:VEVENT
DTSTART;VALUE=DATE:20230912
DTEND;VALUE=DATE:20230915
DTSTAMP:20260423T180226
CREATED:20230815T220708Z
LAST-MODIFIED:20230815T220708Z
UID:11775-1694476800-1694735999@www.wacita.org
SUMMARY:2023 Tribal Healing to Wellness Court Enhancement Training
DESCRIPTION:
URL:https://www.wacita.org/event/2023-tribal-healing-to-wellness-court-enhancement-training/
LOCATION:Renaissance Palm Springs Hotel  Agua Caliente Band of Cahuilla Indians Reservation
CATEGORIES:Outside of AOC
END:VEVENT
BEGIN:VEVENT
DTSTART;TZID=America/Los_Angeles:20230830T120000
DTEND;TZID=America/Los_Angeles:20230830T130000
DTSTAMP:20260423T180226
CREATED:20230815T215617Z
LAST-MODIFIED:20230815T215617Z
UID:11772-1693396800-1693400400@www.wacita.org
SUMMARY:NWROTA C: Fentanyl and Xylazine: What You Need to Know and How to Keep Yourself Safe
DESCRIPTION:Learn about up-to-date information on Fentanyl and Xylazine\, including Risk Mitigation as concerns around these substances grow.
URL:https://www.wacita.org/event/nwrota-c-fentanyl-and-xylazine-what-you-need-to-know-and-how-to-keep-yourself-safe/
LOCATION:virtual – register via link
END:VEVENT
BEGIN:VEVENT
DTSTART;TZID=America/Los_Angeles:20230822T100000
DTEND;TZID=America/Los_Angeles:20230822T110000
DTSTAMP:20260423T180226
CREATED:20230815T210005Z
LAST-MODIFIED:20230815T210005Z
UID:11769-1692698400-1692702000@www.wacita.org
SUMMARY:CFF Idea Exchange: continue the conversation from the July Practice Academy course titled\, “Building Strong Futures: Increasing FTC Capacity and Scale.”
DESCRIPTION:This conversation is held as a follow up to the earlier Practice Academy on this topic\, and offers a chance to discuss and strategize with peers. \nCome take part in a lively conversation on Tuesday\, August 22\, 2023 at 1:00 pm ET/10:00 am PT with peers from across the country. It’s a chance to share and discuss strategies\, innovations\, and challenges! \nAsking the questions…  \n\nDo you understand your scale and whether you’re meeting the need of your community?\nHow can you improve identification\, referral\, and entry pathways to increase engagement and reach your FTC’s capacity?\nWhat strategies are you using to close the gap between FTC enrollment and community need?
URL:https://www.wacita.org/event/cff-idea-exchange-continue-the-conversation-from-the-july-practice-academy-course-titled-building-strong-futures-increasing-ftc-capacity-and-scale/
LOCATION:virtual – register via link
CATEGORIES:Outside of AOC
END:VEVENT
BEGIN:VEVENT
DTSTART;TZID=America/Los_Angeles:20230810T080000
DTEND;TZID=America/Los_Angeles:20230811T123000
DTSTAMP:20260423T180226
CREATED:20230607T210754Z
LAST-MODIFIED:20230711T184750Z
UID:11179-1691654400-1691757000@www.wacita.org
SUMMARY:Keeping Families Together Act: Basics for the Bench
DESCRIPTION:The Washington State Legislature passed the Keeping Families Together Act (HB 1227) in 2021\, with an effective date of July 1\, 2023. This historic legislation makes significant changes to the front-end of the dependency court process and represents a fundamental shift in how courts consider child safety in decision-making. In May\, Family & Youth Justice Programs (FYJP) held the 2023 Dependency Judicial Training Academy which was entirely focused on preparing courts for these monumental changes. The academy was very well-received and\, in response to numerous requests for additional training\, we are offering a condensed\, 1.5-day version of the academy in August 2023. \nThis training will cover the new law and impacts of statutory changes on judicial officer practice and court process. Attendees will also be introduced to the variety of tools\, resources and trainings designed to support courts in successful implementation. This training will be recorded and made available for later viewing. \nSome of the topics covered in this training will include: \n\nPurpose & Intent of HB 1227\nOverview of Statutory Changes\niDecide (popular web-based application developed to support implementation)\nNew Legal Standard: Imminent Physical Harm\nHarm of Removal and Balancing Child Safety\nSafety Planning\nImportance of Kinship Care\n\nhttps://www.wacita.org/keeping-families-together-act-hb-1227-basics-for-the-bench/
URL:https://www.wacita.org/event/judicial-academy-2-0/
LOCATION:virtual – register via link
END:VEVENT
BEGIN:VEVENT
DTSTART;TZID=America/Los_Angeles:20230725T110000
DTEND;TZID=America/Los_Angeles:20230725T120000
DTSTAMP:20260423T180226
CREATED:20230518T000029Z
LAST-MODIFIED:20230518T000718Z
UID:11085-1690282800-1690286400@www.wacita.org
SUMMARY:CFF Practice Academy: Capacity\, Scale\, Meeting needs with FTCs
DESCRIPTION:CFF’s Practice Academy this time around is focused on building census numbers/scale in your FTC. You can read more about this practice academy on the zoom registration link below.
URL:https://www.wacita.org/event/cff-practice-academy-capacity-scale-meeting-needs-with-ftcs/
LOCATION:virtual – register via link
CATEGORIES:Outside of AOC
END:VEVENT
BEGIN:VEVENT
DTSTART;TZID=America/New_York:20230630T121500
DTEND;TZID=America/New_York:20230630T131500
DTSTAMP:20260423T180226
CREATED:20230629T160035Z
LAST-MODIFIED:20230629T160035Z
UID:11276-1688127300-1688130900@www.wacita.org
SUMMARY:NCSC: Family Centered Fridays "Creating User-Centered Courtrooms"\,
DESCRIPTION:There\, NCSC’s Nathan Hall\, Principal Court Management Consultant\, and David Sayles\, Senior Court Management Consultant\, will lead a discussion on how trauma-informed design for court spaces can support user-centered court culture. David and Nathan will be joined by Nicole Ticknor and Kimberly Ackmann\, Deputy Court Administrators with Illinois’ 17th Circuit (Winnebago County)\, to discuss their jurisdiction’s proposal for a new\, trauma-informed Family Courts Center. Attendees will have the opportunity to view plans for trauma-informed courtrooms and court service areas\, hear details of the design process\, and learn some of the creative ways jurisdictions can begin to implement user-centered design principles at all levels of scale.
URL:https://www.wacita.org/event/ncsc-family-centered-fridays-creating-user-centered-courtrooms/
LOCATION:virtual – register via link
CATEGORIES:Outside of AOC
END:VEVENT
END:VCALENDAR