BEGIN:VCALENDAR
VERSION:2.0
PRODID:-//Family and Youth Justice Programs - ECPv6.15.18//NONSGML v1.0//EN
CALSCALE:GREGORIAN
METHOD:PUBLISH
X-WR-CALNAME:Family and Youth Justice Programs
X-ORIGINAL-URL:https://www.wacita.org
X-WR-CALDESC:Events for Family and Youth Justice Programs
REFRESH-INTERVAL;VALUE=DURATION:PT1H
X-Robots-Tag:noindex
X-PUBLISHED-TTL:PT1H
BEGIN:VTIMEZONE
TZID:America/Los_Angeles
BEGIN:DAYLIGHT
TZOFFSETFROM:-0800
TZOFFSETTO:-0700
TZNAME:PDT
DTSTART:20220313T100000
END:DAYLIGHT
BEGIN:STANDARD
TZOFFSETFROM:-0700
TZOFFSETTO:-0800
TZNAME:PST
DTSTART:20221106T090000
END:STANDARD
BEGIN:DAYLIGHT
TZOFFSETFROM:-0800
TZOFFSETTO:-0700
TZNAME:PDT
DTSTART:20230312T100000
END:DAYLIGHT
BEGIN:STANDARD
TZOFFSETFROM:-0700
TZOFFSETTO:-0800
TZNAME:PST
DTSTART:20231105T090000
END:STANDARD
BEGIN:DAYLIGHT
TZOFFSETFROM:-0800
TZOFFSETTO:-0700
TZNAME:PDT
DTSTART:20240310T100000
END:DAYLIGHT
BEGIN:STANDARD
TZOFFSETFROM:-0700
TZOFFSETTO:-0800
TZNAME:PST
DTSTART:20241103T090000
END:STANDARD
END:VTIMEZONE
BEGIN:VTIMEZONE
TZID:America/New_York
BEGIN:DAYLIGHT
TZOFFSETFROM:-0500
TZOFFSETTO:-0400
TZNAME:EDT
DTSTART:20220313T070000
END:DAYLIGHT
BEGIN:STANDARD
TZOFFSETFROM:-0400
TZOFFSETTO:-0500
TZNAME:EST
DTSTART:20221106T060000
END:STANDARD
BEGIN:DAYLIGHT
TZOFFSETFROM:-0500
TZOFFSETTO:-0400
TZNAME:EDT
DTSTART:20230312T070000
END:DAYLIGHT
BEGIN:STANDARD
TZOFFSETFROM:-0400
TZOFFSETTO:-0500
TZNAME:EST
DTSTART:20231105T060000
END:STANDARD
BEGIN:DAYLIGHT
TZOFFSETFROM:-0500
TZOFFSETTO:-0400
TZNAME:EDT
DTSTART:20240310T070000
END:DAYLIGHT
BEGIN:STANDARD
TZOFFSETFROM:-0400
TZOFFSETTO:-0500
TZNAME:EST
DTSTART:20241103T060000
END:STANDARD
END:VTIMEZONE
BEGIN:VEVENT
DTSTART;VALUE=DATE:20231019
DTEND;VALUE=DATE:20231021
DTSTAMP:20260423T222715
CREATED:20230411T231531Z
LAST-MODIFIED:20230411T232044Z
UID:10808-1697673600-1697846399@www.wacita.org
SUMMARY:WSADCP Treatment Court Conference 2023
DESCRIPTION:This event hosted by the Washington State Association of Drug Court Professionals (WSADCP) is well attended by professionals from across the state. WSADCP works hard to bring speakers and sponsors based on feedback from court teams and provide a welcome opportunity to meet in person to learn together.
URL:https://www.wacita.org/event/wsadcp-treatment-court-conference-2023/
LOCATION:DoubleTree Suites by Hilton Hotel\, 16500 Southcenter Parkway\, Seattle\, WA\, 98188\, United States
CATEGORIES:Outside of AOC
END:VEVENT
BEGIN:VEVENT
DTSTART;VALUE=DATE:20231006
DTEND;VALUE=DATE:20231012
DTSTAMP:20260423T222715
CREATED:20230414T202647Z
LAST-MODIFIED:20230414T203009Z
UID:10907-1696550400-1697068799@www.wacita.org
SUMMARY:NAADAC 2023 Annual Conference
DESCRIPTION:The National Association for Addiction Professionals Annual Conference \n 
URL:https://www.wacita.org/event/naadac-2023-annual-conference/
LOCATION:Gaylord Rockies Resort & Convention Center\, Denver\, CO\, 80019\, United States
CATEGORIES:Outside of AOC
END:VEVENT
BEGIN:VEVENT
DTSTART;VALUE=DATE:20230912
DTEND;VALUE=DATE:20230915
DTSTAMP:20260423T222715
CREATED:20230815T220708Z
LAST-MODIFIED:20230815T220708Z
UID:11775-1694476800-1694735999@www.wacita.org
SUMMARY:2023 Tribal Healing to Wellness Court Enhancement Training
DESCRIPTION:
URL:https://www.wacita.org/event/2023-tribal-healing-to-wellness-court-enhancement-training/
LOCATION:Renaissance Palm Springs Hotel  Agua Caliente Band of Cahuilla Indians Reservation
CATEGORIES:Outside of AOC
END:VEVENT
BEGIN:VEVENT
DTSTART;TZID=America/Los_Angeles:20230822T100000
DTEND;TZID=America/Los_Angeles:20230822T110000
DTSTAMP:20260423T222715
CREATED:20230815T210005Z
LAST-MODIFIED:20230815T210005Z
UID:11769-1692698400-1692702000@www.wacita.org
SUMMARY:CFF Idea Exchange: continue the conversation from the July Practice Academy course titled\, “Building Strong Futures: Increasing FTC Capacity and Scale.”
DESCRIPTION:This conversation is held as a follow up to the earlier Practice Academy on this topic\, and offers a chance to discuss and strategize with peers. \nCome take part in a lively conversation on Tuesday\, August 22\, 2023 at 1:00 pm ET/10:00 am PT with peers from across the country. It’s a chance to share and discuss strategies\, innovations\, and challenges! \nAsking the questions…  \n\nDo you understand your scale and whether you’re meeting the need of your community?\nHow can you improve identification\, referral\, and entry pathways to increase engagement and reach your FTC’s capacity?\nWhat strategies are you using to close the gap between FTC enrollment and community need?
URL:https://www.wacita.org/event/cff-idea-exchange-continue-the-conversation-from-the-july-practice-academy-course-titled-building-strong-futures-increasing-ftc-capacity-and-scale/
LOCATION:virtual – register via link
CATEGORIES:Outside of AOC
END:VEVENT
BEGIN:VEVENT
DTSTART;TZID=America/Los_Angeles:20230725T110000
DTEND;TZID=America/Los_Angeles:20230725T120000
DTSTAMP:20260423T222715
CREATED:20230518T000029Z
LAST-MODIFIED:20230518T000718Z
UID:11085-1690282800-1690286400@www.wacita.org
SUMMARY:CFF Practice Academy: Capacity\, Scale\, Meeting needs with FTCs
DESCRIPTION:CFF’s Practice Academy this time around is focused on building census numbers/scale in your FTC. You can read more about this practice academy on the zoom registration link below.
URL:https://www.wacita.org/event/cff-practice-academy-capacity-scale-meeting-needs-with-ftcs/
LOCATION:virtual – register via link
CATEGORIES:Outside of AOC
END:VEVENT
BEGIN:VEVENT
DTSTART;TZID=America/New_York:20230630T121500
DTEND;TZID=America/New_York:20230630T131500
DTSTAMP:20260423T222715
CREATED:20230629T160035Z
LAST-MODIFIED:20230629T160035Z
UID:11276-1688127300-1688130900@www.wacita.org
SUMMARY:NCSC: Family Centered Fridays "Creating User-Centered Courtrooms"\,
DESCRIPTION:There\, NCSC’s Nathan Hall\, Principal Court Management Consultant\, and David Sayles\, Senior Court Management Consultant\, will lead a discussion on how trauma-informed design for court spaces can support user-centered court culture. David and Nathan will be joined by Nicole Ticknor and Kimberly Ackmann\, Deputy Court Administrators with Illinois’ 17th Circuit (Winnebago County)\, to discuss their jurisdiction’s proposal for a new\, trauma-informed Family Courts Center. Attendees will have the opportunity to view plans for trauma-informed courtrooms and court service areas\, hear details of the design process\, and learn some of the creative ways jurisdictions can begin to implement user-centered design principles at all levels of scale.
URL:https://www.wacita.org/event/ncsc-family-centered-fridays-creating-user-centered-courtrooms/
LOCATION:virtual – register via link
CATEGORIES:Outside of AOC
END:VEVENT
BEGIN:VEVENT
DTSTART;TZID=America/Los_Angeles:20230628T120000
DTEND;TZID=America/Los_Angeles:20230628T133000
DTSTAMP:20260423T222715
CREATED:20230525T195559Z
LAST-MODIFIED:20230525T200533Z
UID:11150-1687953600-1687959000@www.wacita.org
SUMMARY:Embracing Recovery-Oriented Harm Reduction in Medication Assisted Treatment
DESCRIPTION:Medication-assisted treatment (MAT) is widely accepted as the most effective form of treatment for individuals with opioid use disorder. MAT options have offered a pathway to recovery for many individuals who have found sustained\, long-term recovery with the support of these medications and services. Despite this\, MAT is often categorized as a form of harm reduction. In fact\, MAT is known to provide many life-saving harm reduction benefits to individuals who use substances. So\, which is it? A pathway to recovery or a form of harm reduction? In this training\, attendees will explore how MAT can serve in both of these critical roles. Individuals working in MAT settings will learn how to harness the important benefits of harm reduction work while still offering opportunity and hope for recovery.
URL:https://www.wacita.org/event/embracing-recovery-oriented-harm-reduction-in-medication-assisted-treatment/
LOCATION:virtual – register via link
CATEGORIES:Outside of AOC
END:VEVENT
BEGIN:VEVENT
DTSTART;TZID=America/Los_Angeles:20230626T080000
DTEND;TZID=America/Los_Angeles:20230629T170000
DTSTAMP:20260423T222715
CREATED:20230411T230818Z
LAST-MODIFIED:20230414T190243Z
UID:10804-1687766400-1688058000@www.wacita.org
SUMMARY:RISE23: NADCP
DESCRIPTION:National Conference for all drug court professionals held yearly by the National Association of Drug Court Professionals (NADCP). \nMikala Meize-Bowers\, PhD & Meghan R. Fitzgerald\, PhD will be presenting on data and evaluation in therapeutic courts based on work started during their work with the Family Treatment Court grant
URL:https://www.wacita.org/event/rise23-nadcp/
LOCATION:George R Brown Convention Center\, 1001 Avenida de las Americas\, Houston\, TX\, 77010\, United States
CATEGORIES:Outside of AOC
END:VEVENT
BEGIN:VEVENT
DTSTART;TZID=America/Los_Angeles:20230623T120000
DTEND;TZID=America/Los_Angeles:20230623T133000
DTSTAMP:20260423T222715
CREATED:20230525T194427Z
LAST-MODIFIED:20230525T194427Z
UID:11148-1687521600-1687527000@www.wacita.org
SUMMARY:Incorporating the Family into Treatment and Recovery\, Part 6: Healing Children of Parental Substance Use Disorders
DESCRIPTION:Prevention begins with helping children of parents with substance use disorder heal. Trauma and chronic stress alter brain function and can lead to negative outcomes\, including ineffective coping skills\, lack of impulse control\, attachment adjustment\, and academic challenges. Identification is hindered by invisible stigma\, family rules\, and the child’s fears that no one will believe them. Availability and access to help is limited and decreases with poverty and other cultural factors. Children all have internalized protective and environmental factors that can be recognized and developed. Healing can begin with trauma-informed facilitators\, often in educational support groups\, who instill realistic hope by understanding and fostering children’s resiliencies.
URL:https://www.wacita.org/event/incorporating-the-family-into-treatment-and-recovery-part-6-healing-children-of-parental-substance-use-disorders/
LOCATION:virtual – register via link
CATEGORIES:Outside of AOC
END:VEVENT
BEGIN:VEVENT
DTSTART;TZID=America/New_York:20230602T120000
DTEND;TZID=America/New_York:20230602T133000
DTSTAMP:20260423T222715
CREATED:20230525T194211Z
LAST-MODIFIED:20230525T194509Z
UID:11146-1685707200-1685712600@www.wacita.org
SUMMARY:Incorporating the Family into Treatment and Recovery\, Part 5: Celebrating Families!™ - Nurturing Family Resiliency and Healing
DESCRIPTION:Free webinar hosted by NAADAC \nCelebrating Families!™ (CF!) is a multi-family\, trauma-sensitive\, strength-based program. CF! was developed specifically for families dealing with or at high risk for substance use disorders\, multi-generational trauma\, physical and mental health challenges\, cognitive deficits due to trauma\, genetics\, OR in-utero exposure\, and safety regarding child abuse\, neglect\, and family violence. CF! addresses these needs through building healthy living skills and educational peer support. It serves the whole family\, including children zero to 18 years old\, parents with addiction\, the non-using parent\, and children’s caregivers or foster parents. Participants will learn about the distinctives and adaptions for Hispanic families and Native American communities. This webinar will also review the materials\, training\, and technical support available.
URL:https://www.wacita.org/event/incorporating-the-family-into-treatment-and-recovery-part-5-celebrating-families-nurturing-family-resiliency-and-healing/
LOCATION:virtual – register via link
CATEGORIES:Outside of AOC
END:VEVENT
BEGIN:VEVENT
DTSTART;VALUE=DATE:20230521
DTEND;VALUE=DATE:20230525
DTSTAMP:20260423T222715
CREATED:20230412T203543Z
LAST-MODIFIED:20230518T180225Z
UID:10831-1684627200-1684972799@www.wacita.org
SUMMARY:National Consortium on Racial and Ethnic Fairness in the Courts 2023 Annual Conference
DESCRIPTION:NCREFC 2023 Conference Schedule \nSAVE THE DATE 2023 NCREFC Conference in Seattle_Final \nNCREFC 2023 Conference Registration Flyer  \nThe program looks excellent! In addition to the many national presenters\, local FTC experts\, Meghan R Fitzgerald (FTC Training Coordinator)\, Gabrielle Cranor (Mason FRC Caseworker)\, Manisha Jackson (King FTC Family Recovery Support Specialist)\, & Jill Murphy (King FTC Program Supervisor) will be presenting on the 23rd\, “Giving Context for Equity in the Courts: Where Lived Expertise\, Trauma-Informed Care\, and Belonging Intersect.”  \nA pdf of the slides for this talk is available here
URL:https://www.wacita.org/event/national-consortium-on-racial-and-ethnic-fairness-in-the-courts-2023-annual-conference/
CATEGORIES:Family Treatment Court,Outside of AOC
END:VEVENT
BEGIN:VEVENT
DTSTART;TZID=America/New_York:20230509T140000
DTEND;TZID=America/New_York:20230510T170000
DTSTAMP:20260423T222715
CREATED:20230414T185230Z
LAST-MODIFIED:20230414T185230Z
UID:10887-1683640800-1683738000@www.wacita.org
SUMMARY:Continuing Upwards from the Summit
DESCRIPTION:NCSC\, the Conference of Chief Justices\, the Conference of State Court Administrators\, and Casey Family Programs have organized this free\, court improvement and child welfare virtual event. \nThe agenda and new materials will be available here as the event approaches: 2023 Upwards from the Summit virtual event materials | Powered by Box \nRegister via the link
URL:https://www.wacita.org/event/continuing-upwards-from-the-summit/
LOCATION:virtual – register via link
CATEGORIES:Outside of AOC
END:VEVENT
BEGIN:VEVENT
DTSTART;TZID=America/Los_Angeles:20230425T103000
DTEND;TZID=America/Los_Angeles:20230425T123000
DTSTAMP:20260423T222715
CREATED:20230411T233140Z
LAST-MODIFIED:20230414T190051Z
UID:10814-1682418600-1682425800@www.wacita.org
SUMMARY:Making the Connection: Improving the Referral Pathways to Family Treatment Court
DESCRIPTION:Virtual\, Free webinar hosted by SAMHSA (Substance Abuse and National Health Services Administration) use the link to register for this zoom event.
URL:https://www.wacita.org/event/making-the-connection-improving-the-referral-pathways-to-family-treatment-court/
LOCATION:virtual – register via link
CATEGORIES:Outside of AOC
END:VEVENT
BEGIN:VEVENT
DTSTART;TZID=America/Los_Angeles:20230419T120000
DTEND;TZID=America/Los_Angeles:20230419T133000
DTSTAMP:20260423T222715
CREATED:20230414T200351Z
LAST-MODIFIED:20230414T203023Z
UID:10904-1681905600-1681911000@www.wacita.org
SUMMARY:Trauma-Informed Care for Opioid Treatment
DESCRIPTION:This webinar\, designed for SUD treatment professionals\, will address Opioid Use Disorder (OUD) treatment\, including MAT/MOUD and evidence based practices for Trauma Informed Care in opioid treatment. \nPresented by Tiara Reddick\, MA\, LPC\, CSAC\, and Kelly C. Smith\, MS\, LPC\, NCC
URL:https://www.wacita.org/event/trauma-informed-care-for-opioid-treatment/
LOCATION:virtual – register via link
CATEGORIES:Outside of AOC
END:VEVENT
BEGIN:VEVENT
DTSTART;VALUE=DATE:20230418
DTEND;VALUE=DATE:20230420
DTSTAMP:20260423T222715
CREATED:20230411T191456Z
LAST-MODIFIED:20230414T195014Z
UID:10801-1681776000-1681948799@www.wacita.org
SUMMARY:Children's Justice Conference
DESCRIPTION:The CJC provides core and advanced training and skill development for a child welfare and court professionals. This event will feature many speakers from Washington State and from the Family and Youth Justice Team. See the full agenda for details! \nThe registration list is full\, but if you are already registered\, please look out for the names of presenters from FYJP\, and say hello if you see us!
URL:https://www.wacita.org/event/childrens-justice-conference/
CATEGORIES:Early Childhood Courts,Family and Juvenile Court Improvement Program,Family and Youth Justice Programs,Family Treatment Court,Outside of AOC
END:VEVENT
BEGIN:VEVENT
DTSTART;TZID=America/Los_Angeles:20230412T080000
DTEND;TZID=America/Los_Angeles:20230412T170000
DTSTAMP:20260423T222715
CREATED:20230412T203106Z
LAST-MODIFIED:20230414T191217Z
UID:10828-1681286400-1681318800@www.wacita.org
SUMMARY:NCSC Family Centered Fridays Webinar
DESCRIPTION:The National Center for State Courts has started hosting a family centered Fridays Webinar series to help courts gain tools and resources to make their courts more family centered.
URL:https://www.wacita.org/event/ncsc-family-centered-fridays-webinar/
LOCATION:virtual – register via link
CATEGORIES:Early Childhood Courts,Family Treatment Court,Outside of AOC
END:VEVENT
END:VCALENDAR