BEGIN:VCALENDAR
VERSION:2.0
PRODID:-//Family and Youth Justice Programs - ECPv6.15.18//NONSGML v1.0//EN
CALSCALE:GREGORIAN
METHOD:PUBLISH
X-WR-CALNAME:Family and Youth Justice Programs
X-ORIGINAL-URL:https://www.wacita.org
X-WR-CALDESC:Events for Family and Youth Justice Programs
REFRESH-INTERVAL;VALUE=DURATION:PT1H
X-Robots-Tag:noindex
X-PUBLISHED-TTL:PT1H
BEGIN:VTIMEZONE
TZID:America/Los_Angeles
BEGIN:DAYLIGHT
TZOFFSETFROM:-0800
TZOFFSETTO:-0700
TZNAME:PDT
DTSTART:20240310T100000
END:DAYLIGHT
BEGIN:STANDARD
TZOFFSETFROM:-0700
TZOFFSETTO:-0800
TZNAME:PST
DTSTART:20241103T090000
END:STANDARD
BEGIN:DAYLIGHT
TZOFFSETFROM:-0800
TZOFFSETTO:-0700
TZNAME:PDT
DTSTART:20250309T100000
END:DAYLIGHT
BEGIN:STANDARD
TZOFFSETFROM:-0700
TZOFFSETTO:-0800
TZNAME:PST
DTSTART:20251102T090000
END:STANDARD
BEGIN:DAYLIGHT
TZOFFSETFROM:-0800
TZOFFSETTO:-0700
TZNAME:PDT
DTSTART:20260308T100000
END:DAYLIGHT
BEGIN:STANDARD
TZOFFSETFROM:-0700
TZOFFSETTO:-0800
TZNAME:PST
DTSTART:20261101T090000
END:STANDARD
END:VTIMEZONE
BEGIN:VEVENT
DTSTART;TZID=America/Los_Angeles:20251020T120000
DTEND;TZID=America/Los_Angeles:20251020T131500
DTSTAMP:20260423T163139
CREATED:20250430T004805Z
LAST-MODIFIED:20250508T223840Z
UID:16458-1760961600-1760966100@www.wacita.org
SUMMARY:How Courts and Court Partners Can Build Trust in the Court System: A Conversation with Experts
DESCRIPTION:How Courts and Court Partners Can Build Trust in the Court System: A Conversation with Experts \nPart 5 0f 5 of the HPSO and the Intersection with Child Welfare Courts Series \nRegistration: https://wacourts.zoom.us/meeting/register/Wv4wBpIIRbuLKwrRKrGcRA#/registration \n  \n 
URL:https://www.wacita.org/event/5-part-training-series-on-high-potency-synthetic-opioids-hpso-and-the-intersection-with-child-welfare-courts-6/
LOCATION:Virtual
CATEGORIES:Safety & Substance Use
END:VEVENT
BEGIN:VEVENT
DTSTART;TZID=America/Los_Angeles:20250916T120000
DTEND;TZID=America/Los_Angeles:20250916T131500
DTSTAMP:20260423T163139
CREATED:20250430T004247Z
LAST-MODIFIED:20250508T223822Z
UID:16452-1758024000-1758028500@www.wacita.org
SUMMARY:Safety vs. Risk in HPSO Family Situations: Part 2
DESCRIPTION:Safety vs. Risk in HPSO Family Situations: Part 2 \nPart 4 of 5 of the HPSO and the Intersection with Child Welfare Courts Series \nRegistration: https://wacourts.zoom.us/meeting/register/22EpM9gmS3KRKIRFv6faOw#/registration 
URL:https://www.wacita.org/event/5-part-training-series-on-high-potency-synthetic-opioids-hpso-and-the-intersection-with-child-welfare-courts-5/
LOCATION:Virtual
CATEGORIES:Safety & Substance Use
END:VEVENT
BEGIN:VEVENT
DTSTART;TZID=America/Los_Angeles:20250820T120000
DTEND;TZID=America/Los_Angeles:20250820T131500
DTSTAMP:20260423T163139
CREATED:20250430T003625Z
LAST-MODIFIED:20250508T224134Z
UID:16447-1755691200-1755695700@www.wacita.org
SUMMARY:Safety vs. Risk in HPSO Family Situations: Part I
DESCRIPTION:Safety vs. Risk in HPSO Family Situations: Part I \nPart 3 of 5 of the HPSO and the Intersection with Child Welfare Courts Series \nRegistration: https://wacourts.zoom.us/meeting/register/A8T2mjtJSW-CqcVRnhGYAg#/registration
URL:https://www.wacita.org/event/5-part-training-series-on-high-potency-synthetic-opioids-hpso-and-the-intersection-with-child-welfare-courts-4/
LOCATION:Virtual
CATEGORIES:Safety & Substance Use
END:VEVENT
BEGIN:VEVENT
DTSTART;TZID=America/Los_Angeles:20250718T120000
DTEND;TZID=America/Los_Angeles:20250718T131500
DTSTAMP:20260423T163139
CREATED:20250430T002145Z
LAST-MODIFIED:20250627T175053Z
UID:16437-1752840000-1752844500@www.wacita.org
SUMMARY:HB 1227\, SB 6109\, HB 1227\, SB 6109\, and Fentanyl: Navigating the Intersections Training
DESCRIPTION:HB 1227\, SB 6109\, HB 1227\, SB 6109\, and Fentanyl: Navigating the Intersections Training \nPart Two of the HPSO and the Intersection with Child Welfare Courts Series HPSO \nRegistration: https://wacourts.zoom.us/meeting/register/62xs5zH2R7-dm42FrO0U3A#/registration
URL:https://www.wacita.org/event/5-part-training-series-on-high-potency-synthetic-opioids-hpso-and-the-intersection-with-child-welfare-courts-2/
LOCATION:Virtual
CATEGORIES:Safety & Substance Use
ATTACH;FMTTYPE=image/png:https://www.wacita.org/wp-content/uploads/2025/04/Part-2-of-HPSO-series.png
END:VEVENT
BEGIN:VEVENT
DTSTART;TZID=America/Los_Angeles:20250617T120000
DTEND;TZID=America/Los_Angeles:20250617T131500
DTSTAMP:20260423T163139
CREATED:20250430T000919Z
LAST-MODIFIED:20250508T224250Z
UID:16430-1750161600-1750166100@www.wacita.org
SUMMARY:High Potency Synthetic Opioids Public Health Guidance and Medications for Opioid Use Disorder Training
DESCRIPTION:High Potency Synthetic Opioids Public Health Guidance and Medications for Opioid Use Disorder Training \nPart 1 of 5 of the HPSO and the Intersection with Child Welfare Courts Series \nRegistration: https://wacourts.zoom.us/meeting/register/LKnddVQnSy-TAybg_EdJOQ#/registration
URL:https://www.wacita.org/event/5-part-training-series-on-high-potency-synthetic-opioids-hpso-and-the-intersection-with-child-welfare-courts/
LOCATION:Virtual
CATEGORIES:Safety & Substance Use
END:VEVENT
END:VCALENDAR